BEGIN:VCALENDAR
VERSION:2.0
PRODID:-//horsealert.local//NONSGML kigkonsult.se iCalcreator 2.10.5//
CALSCALE:GREGORIAN
X-WR-TIMEZONE:Europe/Dublin
BEGIN:VTIMEZONE
TZID:Etc/GMT-1
BEGIN:STANDARD
DTSTART:20010101T000000
TZOFFSETFROM:+0100
TZOFFSETTO:+0100
TZNAME:GMT +01:00
END:STANDARD
END:VTIMEZONE
BEGIN:VEVENT
UID:20260424T155406CEST-7719iirvLd@horsealert.local
DTSTAMP:20260424T130406Z
CATEGORIES:Horse Alerts
DESCRIPTION:Download The BetVictor Instabet App Jubilee Handicap \(London M
 ile Series Qualifier\)
DTSTART:20140506T164000
LOCATION:England
SUMMARY:Horse Racing:Download The BetVictor Instabet App Jubilee Handicap \
 (London Mile Series Qualifier\)
END:VEVENT
END:VCALENDAR
