BEGIN:VCALENDAR
VERSION:2.0
PRODID:-//horsealert.local//NONSGML kigkonsult.se iCalcreator 2.10.5//
CALSCALE:GREGORIAN
X-WR-TIMEZONE:Europe/Dublin
BEGIN:VTIMEZONE
TZID:Etc/GMT-1
BEGIN:STANDARD
DTSTART:20010101T000000
TZOFFSETFROM:+0100
TZOFFSETTO:+0100
TZNAME:GMT +01:00
END:STANDARD
END:VTIMEZONE
BEGIN:VEVENT
UID:20260424T125643CEST-6435ZgKOPG@horsealert.local
DTSTAMP:20260424T100443Z
CATEGORIES:Horse Alerts
DESCRIPTION:High Chaparral European Breeders Fund Mooresbridge Stakes \(Gro
 up 3\)
DTSTART:20140505T161500
LOCATION:Eire
SUMMARY:Horse Racing:High Chaparral European Breeders Fund Mooresbridge Sta
 kes \(Group 3\)
END:VEVENT
END:VCALENDAR
