BEGIN:VCALENDAR
VERSION:2.0
PRODID:-//horsealert.local//NONSGML kigkonsult.se iCalcreator 2.10.5//
CALSCALE:GREGORIAN
X-WR-TIMEZONE:Europe/Dublin
BEGIN:VTIMEZONE
TZID:Etc/GMT-1
BEGIN:STANDARD
DTSTART:20010101T000000
TZOFFSETFROM:+0100
TZOFFSETTO:+0100
TZNAME:GMT +01:00
END:STANDARD
END:VTIMEZONE
BEGIN:VEVENT
UID:20260424T125810CEST-2118uAJENF@horsealert.local
DTSTAMP:20260424T100410Z
CATEGORIES:Horse Alerts
DESCRIPTION:Bet toteplacepot Apprentice Training Series Handicap \(Part Of 
 The Racing Excellence Initiative\)
DTSTART:20140505T142500
LOCATION:England
SUMMARY:Horse Racing:Bet toteplacepot Apprentice Training Series Handicap \
 (Part Of The Racing Excellence Initiative\)
END:VEVENT
END:VCALENDAR
