BEGIN:VCALENDAR
VERSION:2.0
PRODID:-//horsealert.local//NONSGML kigkonsult.se iCalcreator 2.10.5//
CALSCALE:GREGORIAN
X-WR-TIMEZONE:Europe/Dublin
BEGIN:VTIMEZONE
TZID:Etc/GMT-1
BEGIN:STANDARD
DTSTART:20010101T000000
TZOFFSETFROM:+0100
TZOFFSETTO:+0100
TZNAME:GMT +01:00
END:STANDARD
END:VTIMEZONE
BEGIN:VEVENT
UID:20260424T125519CEST-4451o8N22k@horsealert.local
DTSTAMP:20260424T100419Z
CATEGORIES:Horse Alerts
DESCRIPTION:Art Kitchen\, Warwick Apprentice Handicap
DTSTART:20140505T135500
LOCATION:England
SUMMARY:Horse Racing:Art Kitchen\, Warwick Apprentice Handicap
END:VEVENT
END:VCALENDAR
