BEGIN:VCALENDAR
VERSION:2.0
PRODID:-//horsealert.local//NONSGML kigkonsult.se iCalcreator 2.10.5//
CALSCALE:GREGORIAN
X-WR-TIMEZONE:Europe/Dublin
BEGIN:VTIMEZONE
TZID:Etc/GMT-1
BEGIN:STANDARD
DTSTART:20010101T000000
TZOFFSETFROM:+0100
TZOFFSETTO:+0100
TZNAME:GMT +01:00
END:STANDARD
END:VTIMEZONE
BEGIN:VEVENT
UID:20260424T125446CEST-0533HC82SJ@horsealert.local
DTSTAMP:20260424T100446Z
CATEGORIES:Horse Alerts
DESCRIPTION:Goresbridge Breeze Up At Gowran Park May 22nd & 23rd Handicap
DTSTART:20140504T163000
LOCATION:Eire
SUMMARY:Horse Racing:Goresbridge Breeze Up At Gowran Park May 22nd & 23rd H
 andicap
END:VEVENT
END:VCALENDAR
