BEGIN:VCALENDAR
VERSION:2.0
PRODID:-//horsealert.local//NONSGML kigkonsult.se iCalcreator 2.10.5//
CALSCALE:GREGORIAN
X-WR-TIMEZONE:Europe/Dublin
BEGIN:VTIMEZONE
TZID:Etc/GMT-1
BEGIN:STANDARD
DTSTART:20010101T000000
TZOFFSETFROM:+0100
TZOFFSETTO:+0100
TZNAME:GMT +01:00
END:STANDARD
END:VTIMEZONE
BEGIN:VEVENT
UID:20260424T124938CEST-2596H0dbUv@horsealert.local
DTSTAMP:20260424T100438Z
CATEGORIES:Horse Alerts
DESCRIPTION:5 Million Scoop6 Today British Stallion Studs EBF Conqueror Sta
 kes \(Fillies\' Listed\)
DTSTART:20140503T160500
LOCATION:England
SUMMARY:Horse Racing:5 Million Scoop6 Today British Stallion Studs EBF Conq
 ueror Stakes \(Fillies\' Listed\)
END:VEVENT
END:VCALENDAR
