BEGIN:VCALENDAR
VERSION:2.0
PRODID:-//horsealert.local//NONSGML kigkonsult.se iCalcreator 2.10.5//
CALSCALE:GREGORIAN
X-WR-TIMEZONE:Europe/Dublin
BEGIN:VTIMEZONE
TZID:Etc/GMT-1
BEGIN:STANDARD
DTSTART:20010101T000000
TZOFFSETFROM:+0100
TZOFFSETTO:+0100
TZNAME:GMT +01:00
END:STANDARD
END:VTIMEZONE
BEGIN:VEVENT
UID:20260424T125810CEST-7798pWlv6o@horsealert.local
DTSTAMP:20260424T100410Z
CATEGORIES:Horse Alerts
DESCRIPTION:West Sussex Office Furniture 10th Anniversary Handicap Chase \(
 Celebrating Moresteads\' 100th Race\)
DTSTART:20140502T183000
LOCATION:England
SUMMARY:Horse Racing:West Sussex Office Furniture 10th Anniversary Handicap
  Chase \(Celebrating Moresteads\' 100th Race\)
END:VEVENT
END:VCALENDAR
