BEGIN:VCALENDAR
VERSION:2.0
PRODID:-//horsealert.local//NONSGML kigkonsult.se iCalcreator 2.10.5//
CALSCALE:GREGORIAN
X-WR-TIMEZONE:Europe/Dublin
BEGIN:VTIMEZONE
TZID:Etc/GMT-1
BEGIN:STANDARD
DTSTART:20010101T000000
TZOFFSETFROM:+0100
TZOFFSETTO:+0100
TZNAME:GMT +01:00
END:STANDARD
END:VTIMEZONE
BEGIN:VEVENT
UID:20260424T125804CEST-7488EVeTdj@horsealert.local
DTSTAMP:20260424T100404Z
CATEGORIES:Horse Alerts
DESCRIPTION:Core Oil And Gas Handicap
DTSTART:20140502T150000
LOCATION:Scotland
SUMMARY:Horse Racing:Core Oil And Gas Handicap
END:VEVENT
END:VCALENDAR
