BEGIN:VCALENDAR
VERSION:2.0
PRODID:-//horsealert.local//NONSGML kigkonsult.se iCalcreator 2.10.5//
CALSCALE:GREGORIAN
X-WR-TIMEZONE:Europe/Dublin
BEGIN:VTIMEZONE
TZID:Etc/GMT-1
BEGIN:STANDARD
DTSTART:20010101T000000
TZOFFSETFROM:+0100
TZOFFSETTO:+0100
TZNAME:GMT +01:00
END:STANDARD
END:VTIMEZONE
BEGIN:VEVENT
UID:20260424T145124CEST-1722SeaDom@horsealert.local
DTSTAMP:20260424T120424Z
CATEGORIES:Horse Alerts
DESCRIPTION:Naas Court Hotel And Il Fico Restaurant Handicap Hurdle \(95-13
 0\)
DTSTART:20140501T180500
LOCATION:Eire
SUMMARY:Horse Racing:Naas Court Hotel And Il Fico Restaurant Handicap Hurdl
 e \(95-130\)
END:VEVENT
END:VCALENDAR
