BEGIN:VCALENDAR
VERSION:2.0
PRODID:-//horsealert.local//NONSGML kigkonsult.se iCalcreator 2.10.5//
CALSCALE:GREGORIAN
X-WR-TIMEZONE:Europe/Dublin
BEGIN:VTIMEZONE
TZID:Etc/GMT-1
BEGIN:STANDARD
DTSTART:20010101T000000
TZOFFSETFROM:+0100
TZOFFSETTO:+0100
TZNAME:GMT +01:00
END:STANDARD
END:VTIMEZONE
BEGIN:VEVENT
UID:20260424T175922CEST-71629z7z5c@horsealert.local
DTSTAMP:20260424T150422Z
CATEGORIES:Horse Alerts
DESCRIPTION:Celebrate 10 Years With Racing UK Anywhere Maiden Fillies\' Sta
 kes
DTSTART:20140501T145500
LOCATION:England
SUMMARY:Horse Racing:Celebrate 10 Years With Racing UK Anywhere Maiden Fill
 ies\' Stakes
END:VEVENT
END:VCALENDAR
