BEGIN:VCALENDAR
VERSION:2.0
PRODID:-//horsealert.local//NONSGML kigkonsult.se iCalcreator 2.10.5//
CALSCALE:GREGORIAN
X-WR-TIMEZONE:Europe/Dublin
BEGIN:VTIMEZONE
TZID:Etc/GMT-1
BEGIN:STANDARD
DTSTART:20010101T000000
TZOFFSETFROM:+0100
TZOFFSETTO:+0100
TZNAME:GMT +01:00
END:STANDARD
END:VTIMEZONE
BEGIN:VEVENT
UID:20260424T143151CEST-2231MUrwIu@horsealert.local
DTSTAMP:20260424T120451Z
CATEGORIES:Horse Alerts
DESCRIPTION:totepool Supports The NRC/ Breeders Backing Racing EBF Maiden S
 takes
DTSTART:20140430T144500
LOCATION:England
SUMMARY:Horse Racing:totepool Supports The NRC/ Breeders Backing Racing EBF
  Maiden Stakes
END:VEVENT
END:VCALENDAR
