BEGIN:VCALENDAR
VERSION:2.0
PRODID:-//horsealert.local//NONSGML kigkonsult.se iCalcreator 2.10.5//
CALSCALE:GREGORIAN
X-WR-TIMEZONE:Europe/Dublin
BEGIN:VTIMEZONE
TZID:Etc/GMT-1
BEGIN:STANDARD
DTSTART:20010101T000000
TZOFFSETFROM:+0100
TZOFFSETTO:+0100
TZNAME:GMT +01:00
END:STANDARD
END:VTIMEZONE
BEGIN:VEVENT
UID:20260424T143109CEST-40838XibK7@horsealert.local
DTSTAMP:20260424T120409Z
CATEGORIES:Horse Alerts
DESCRIPTION:Club Limerick 24th July Supporters Day Handicap Hurdle \(80-116
 \)
DTSTART:20140427T145000
LOCATION:Eire
SUMMARY:Horse Racing:Club Limerick 24th July Supporters Day Handicap Hurdle
  \(80-116\)
END:VEVENT
END:VCALENDAR
