BEGIN:VCALENDAR
VERSION:2.0
PRODID:-//horsealert.local//NONSGML kigkonsult.se iCalcreator 2.10.5//
CALSCALE:GREGORIAN
X-WR-TIMEZONE:Europe/Dublin
BEGIN:VTIMEZONE
TZID:Etc/GMT-1
BEGIN:STANDARD
DTSTART:20010101T000000
TZOFFSETFROM:+0100
TZOFFSETTO:+0100
TZNAME:GMT +01:00
END:STANDARD
END:VTIMEZONE
BEGIN:VEVENT
UID:20260424T143037CEST-2493Rktn1T@horsealert.local
DTSTAMP:20260424T120437Z
CATEGORIES:Horse Alerts
DESCRIPTION:Get freebets.co.uk On Your Mobile Handicap \(BOBIS Race\) \(Str
 \)
DTSTART:20140426T190500
LOCATION:England
SUMMARY:Horse Racing:Get freebets.co.uk On Your Mobile Handicap \(BOBIS Rac
 e\) \(Str\)
END:VEVENT
END:VCALENDAR
