BEGIN:VCALENDAR
VERSION:2.0
PRODID:-//horsealert.local//NONSGML kigkonsult.se iCalcreator 2.10.5//
CALSCALE:GREGORIAN
X-WR-TIMEZONE:Europe/Dublin
BEGIN:VTIMEZONE
TZID:Etc/GMT-1
BEGIN:STANDARD
DTSTART:20010101T000000
TZOFFSETFROM:+0100
TZOFFSETTO:+0100
TZNAME:GMT +01:00
END:STANDARD
END:VTIMEZONE
BEGIN:VEVENT
UID:20260424T143030CEST-9721VJrZL5@horsealert.local
DTSTAMP:20260424T120430Z
CATEGORIES:Horse Alerts
DESCRIPTION:Bookmaker Offers At freebets.co.uk AJA Lady Riders\' Handicap \
 (Lady Amateur Riders\)
DTSTART:20140426T165500
LOCATION:England
SUMMARY:Horse Racing:Bookmaker Offers At freebets.co.uk AJA Lady Riders\' H
 andicap \(Lady Amateur Riders\)
END:VEVENT
END:VCALENDAR
