BEGIN:VCALENDAR
VERSION:2.0
PRODID:-//horsealert.local//NONSGML kigkonsult.se iCalcreator 2.10.5//
CALSCALE:GREGORIAN
X-WR-TIMEZONE:Europe/Dublin
BEGIN:VTIMEZONE
TZID:Etc/GMT-1
BEGIN:STANDARD
DTSTART:20010101T000000
TZOFFSETFROM:+0100
TZOFFSETTO:+0100
TZNAME:GMT +01:00
END:STANDARD
END:VTIMEZONE
BEGIN:VEVENT
UID:20260424T175812CEST-69883LnopD@horsealert.local
DTSTAMP:20260424T150412Z
CATEGORIES:Horse Alerts
DESCRIPTION:Dunraven Bowl Novices\' Hunters\' Chase \(For The Dunraven Wind
 ows South And West Wales Point-To-Point Championship\)
DTSTART:20140425T191000
LOCATION:Wales
SUMMARY:Horse Racing:Dunraven Bowl Novices\' Hunters\' Chase \(For The Dunr
 aven Windows South And West Wales Point-To-Point Championship\)
END:VEVENT
END:VCALENDAR
