BEGIN:VCALENDAR
VERSION:2.0
PRODID:-//horsealert.local//NONSGML kigkonsult.se iCalcreator 2.10.5//
CALSCALE:GREGORIAN
X-WR-TIMEZONE:Europe/Dublin
BEGIN:VTIMEZONE
TZID:Etc/GMT-1
BEGIN:STANDARD
DTSTART:20010101T000000
TZOFFSETFROM:+0100
TZOFFSETTO:+0100
TZNAME:GMT +01:00
END:STANDARD
END:VTIMEZONE
BEGIN:VEVENT
UID:20260424T175811CEST-6887mz7AUS@horsealert.local
DTSTAMP:20260424T150411Z
CATEGORIES:Horse Alerts
DESCRIPTION:Bet On All Non League At mcbookie.com Conditional Jockeys\' Han
 dicap Hurdle
DTSTART:20140425T164500
LOCATION:Scotland
SUMMARY:Horse Racing:Bet On All Non League At mcbookie.com Conditional Jock
 eys\' Handicap Hurdle
END:VEVENT
END:VCALENDAR
