BEGIN:VCALENDAR
VERSION:2.0
PRODID:-//horsealert.local//NONSGML kigkonsult.se iCalcreator 2.10.5//
CALSCALE:GREGORIAN
X-WR-TIMEZONE:Europe/Dublin
BEGIN:VTIMEZONE
TZID:Etc/GMT-1
BEGIN:STANDARD
DTSTART:20010101T000000
TZOFFSETFROM:+0100
TZOFFSETTO:+0100
TZNAME:GMT +01:00
END:STANDARD
END:VTIMEZONE
BEGIN:VEVENT
UID:20260424T175806CEST-5868Uu7k4T@horsealert.local
DTSTAMP:20260424T150406Z
CATEGORIES:Horse Alerts
DESCRIPTION:Dual Racing Sunday 17th August At Dundalk Stadium Handicap \(60
 -90\)
DTSTART:20140425T204500
LOCATION:Eire
SUMMARY:Horse Racing:Dual Racing Sunday 17th August At Dundalk Stadium Hand
 icap \(60-90\)
END:VEVENT
END:VCALENDAR
