BEGIN:VCALENDAR
VERSION:2.0
PRODID:-//horsealert.local//NONSGML kigkonsult.se iCalcreator 2.10.5//
CALSCALE:GREGORIAN
X-WR-TIMEZONE:Europe/Dublin
BEGIN:VTIMEZONE
TZID:Etc/GMT-1
BEGIN:STANDARD
DTSTART:20010101T000000
TZOFFSETFROM:+0100
TZOFFSETTO:+0100
TZNAME:GMT +01:00
END:STANDARD
END:VTIMEZONE
BEGIN:VEVENT
UID:20260424T143111CEST-5021n3XPkU@horsealert.local
DTSTAMP:20260424T120411Z
CATEGORIES:Horse Alerts
DESCRIPTION:Nordoff Robbins Willie Robertson Memorial Maiden Fillies\' Stak
 es \(BOBIS Race\)
DTSTART:20140425T162500
LOCATION:England
SUMMARY:Horse Racing:Nordoff Robbins Willie Robertson Memorial Maiden Filli
 es\' Stakes \(BOBIS Race\)
END:VEVENT
END:VCALENDAR
