BEGIN:VCALENDAR
VERSION:2.0
PRODID:-//horsealert.local//NONSGML kigkonsult.se iCalcreator 2.10.5//
CALSCALE:GREGORIAN
X-WR-TIMEZONE:Europe/Dublin
BEGIN:VTIMEZONE
TZID:Etc/GMT-1
BEGIN:STANDARD
DTSTART:20010101T000000
TZOFFSETFROM:+0100
TZOFFSETTO:+0100
TZNAME:GMT +01:00
END:STANDARD
END:VTIMEZONE
BEGIN:VEVENT
UID:20260424T143031CEST-6917VwDhCC@horsealert.local
DTSTAMP:20260424T120431Z
CATEGORIES:Horse Alerts
DESCRIPTION:Virgin Media Field Sales Talent Chaser Handicap \(BOBIS Race\)
DTSTART:20140425T135000
LOCATION:England
SUMMARY:Horse Racing:Virgin Media Field Sales Talent Chaser Handicap \(BOBI
 S Race\)
END:VEVENT
END:VCALENDAR
