BEGIN:VCALENDAR
VERSION:2.0
PRODID:-//horsealert.local//NONSGML kigkonsult.se iCalcreator 2.10.5//
CALSCALE:GREGORIAN
X-WR-TIMEZONE:Europe/Dublin
BEGIN:VTIMEZONE
TZID:Etc/GMT-1
BEGIN:STANDARD
DTSTART:20010101T000000
TZOFFSETFROM:+0100
TZOFFSETTO:+0100
TZNAME:GMT +01:00
END:STANDARD
END:VTIMEZONE
BEGIN:VEVENT
UID:20260424T175806CEST-3262CpNs1a@horsealert.local
DTSTAMP:20260424T150406Z
CATEGORIES:Horse Alerts
DESCRIPTION:Watch On 3 Devices racinguk.com/anywhere Standard Open NH Flat 
 Race \(Div 2\)
DTSTART:20140422T175000
LOCATION:England
SUMMARY:Horse Racing:Watch On 3 Devices racinguk.com/anywhere Standard Open
  NH Flat Race \(Div 2\)
END:VEVENT
END:VCALENDAR
