BEGIN:VCALENDAR
VERSION:2.0
PRODID:-//horsealert.local//NONSGML kigkonsult.se iCalcreator 2.10.5//
CALSCALE:GREGORIAN
X-WR-TIMEZONE:Europe/Dublin
BEGIN:VTIMEZONE
TZID:Etc/GMT-1
BEGIN:STANDARD
DTSTART:20010101T000000
TZOFFSETFROM:+0100
TZOFFSETTO:+0100
TZNAME:GMT +01:00
END:STANDARD
END:VTIMEZONE
BEGIN:VEVENT
UID:20260424T143102CEST-7561nc2C5D@horsealert.local
DTSTAMP:20260424T120402Z
CATEGORIES:Horse Alerts
DESCRIPTION:Eildon Hill Stables Novices\' Hunters\' Chase \(For The Charlie
  Brown Trophy\)
DTSTART:20140422T170000
LOCATION:Scotland
SUMMARY:Horse Racing:Eildon Hill Stables Novices\' Hunters\' Chase \(For Th
 e Charlie Brown Trophy\)
END:VEVENT
END:VCALENDAR
