BEGIN:VCALENDAR
VERSION:2.0
PRODID:-//horsealert.local//NONSGML kigkonsult.se iCalcreator 2.10.5//
CALSCALE:GREGORIAN
X-WR-TIMEZONE:Europe/Dublin
BEGIN:VTIMEZONE
TZID:Etc/GMT-1
BEGIN:STANDARD
DTSTART:20010101T000000
TZOFFSETFROM:+0100
TZOFFSETTO:+0100
TZNAME:GMT +01:00
END:STANDARD
END:VTIMEZONE
BEGIN:VEVENT
UID:20260424T143123CEST-9915kM74V7@horsealert.local
DTSTAMP:20260424T120423Z
CATEGORIES:Horse Alerts
DESCRIPTION:Friday Evening Racing At Cork Racecourse \(Q.R.\) Maiden Hurdle
DTSTART:20140421T135500
LOCATION:Eire
SUMMARY:Horse Racing:Friday Evening Racing At Cork Racecourse \(Q.R.\) Maid
 en Hurdle
END:VEVENT
END:VCALENDAR
