BEGIN:VCALENDAR
VERSION:2.0
PRODID:-//horsealert.local//NONSGML kigkonsult.se iCalcreator 2.10.5//
CALSCALE:GREGORIAN
X-WR-TIMEZONE:Europe/Dublin
BEGIN:VTIMEZONE
TZID:Etc/GMT-1
BEGIN:STANDARD
DTSTART:20010101T000000
TZOFFSETFROM:+0100
TZOFFSETTO:+0100
TZNAME:GMT +01:00
END:STANDARD
END:VTIMEZONE
BEGIN:VEVENT
UID:20260424T143205CEST-9879nU62LO@horsealert.local
DTSTAMP:20260424T120405Z
CATEGORIES:Horse Alerts
DESCRIPTION:Gleesons Butchers Novice Handicap Hurdle \(81-123\)
DTSTART:20140420T151000
LOCATION:Eire
SUMMARY:Horse Racing:Gleesons Butchers Novice Handicap Hurdle \(81-123\)
END:VEVENT
END:VCALENDAR
