BEGIN:VCALENDAR
VERSION:2.0
PRODID:-//horsealert.local//NONSGML kigkonsult.se iCalcreator 2.10.5//
CALSCALE:GREGORIAN
X-WR-TIMEZONE:Europe/Dublin
BEGIN:VTIMEZONE
TZID:Etc/GMT-1
BEGIN:STANDARD
DTSTART:20010101T000000
TZOFFSETFROM:+0100
TZOFFSETTO:+0100
TZNAME:GMT +01:00
END:STANDARD
END:VTIMEZONE
BEGIN:VEVENT
UID:20260424T175731CEST-8522xmkwsR@horsealert.local
DTSTAMP:20260424T150431Z
CATEGORIES:Horse Alerts
DESCRIPTION:Bet toteplacepot Scottish Brocklesby Conditions Stakes \(BOBIS 
 Race\)
DTSTART:20140418T141000
LOCATION:Scotland
SUMMARY:Horse Racing:Bet toteplacepot Scottish Brocklesby Conditions Stakes
  \(BOBIS Race\)
END:VEVENT
END:VCALENDAR
