BEGIN:VCALENDAR
VERSION:2.0
PRODID:-//horsealert.local//NONSGML kigkonsult.se iCalcreator 2.10.5//
CALSCALE:GREGORIAN
X-WR-TIMEZONE:Europe/Dublin
BEGIN:VTIMEZONE
TZID:Etc/GMT-1
BEGIN:STANDARD
DTSTART:20010101T000000
TZOFFSETFROM:+0100
TZOFFSETTO:+0100
TZNAME:GMT +01:00
END:STANDARD
END:VTIMEZONE
BEGIN:VEVENT
UID:20260424T175721CEST-6601n7F3J7@horsealert.local
DTSTAMP:20260424T150421Z
CATEGORIES:Horse Alerts
DESCRIPTION:Youth Raceday On 5th June Handicap \(50-85\)
DTSTART:20140417T193500
LOCATION:Eire
SUMMARY:Horse Racing:Youth Raceday On 5th June Handicap \(50-85\)
END:VEVENT
END:VCALENDAR
