BEGIN:VCALENDAR
VERSION:2.0
PRODID:-//horsealert.local//NONSGML kigkonsult.se iCalcreator 2.10.5//
CALSCALE:GREGORIAN
X-WR-TIMEZONE:Europe/Dublin
BEGIN:VTIMEZONE
TZID:Etc/GMT-1
BEGIN:STANDARD
DTSTART:20010101T000000
TZOFFSETFROM:+0100
TZOFFSETTO:+0100
TZNAME:GMT +01:00
END:STANDARD
END:VTIMEZONE
BEGIN:VEVENT
UID:20260424T143101CEST-73904N2a0m@horsealert.local
DTSTAMP:20260424T120401Z
CATEGORIES:Horse Alerts
DESCRIPTION:michaeltowers.co.uk Getting Your Winners Home Standard NH Flat 
 Race \(Conditional/Amateur\)
DTSTART:20140416T193500
LOCATION:England
SUMMARY:Horse Racing:michaeltowers.co.uk Getting Your Winners Home Standard
  NH Flat Race \(Conditional/Amateur\)
END:VEVENT
END:VCALENDAR
