BEGIN:VCALENDAR
VERSION:2.0
PRODID:-//horsealert.local//NONSGML kigkonsult.se iCalcreator 2.10.5//
CALSCALE:GREGORIAN
X-WR-TIMEZONE:Europe/Dublin
BEGIN:VTIMEZONE
TZID:Etc/GMT-1
BEGIN:STANDARD
DTSTART:20010101T000000
TZOFFSETFROM:+0100
TZOFFSETTO:+0100
TZNAME:GMT +01:00
END:STANDARD
END:VTIMEZONE
BEGIN:VEVENT
UID:20260424T143035CEST-7935gRrgJ7@horsealert.local
DTSTAMP:20260424T120435Z
CATEGORIES:Horse Alerts
DESCRIPTION:SMIS Ltd Night Or Day Delivering Winners Novices\' Handicap Hur
 dle
DTSTART:20140416T190500
LOCATION:England
SUMMARY:Horse Racing:SMIS Ltd Night Or Day Delivering Winners Novices\' Han
 dicap Hurdle
END:VEVENT
END:VCALENDAR
