BEGIN:VCALENDAR
VERSION:2.0
PRODID:-//horsealert.local//NONSGML kigkonsult.se iCalcreator 2.10.5//
CALSCALE:GREGORIAN
X-WR-TIMEZONE:Europe/Dublin
BEGIN:VTIMEZONE
TZID:Etc/GMT-1
BEGIN:STANDARD
DTSTART:20010101T000000
TZOFFSETFROM:+0100
TZOFFSETTO:+0100
TZNAME:GMT +01:00
END:STANDARD
END:VTIMEZONE
BEGIN:VEVENT
UID:20260424T143050CEST-7508wtMKo5@horsealert.local
DTSTAMP:20260424T120450Z
CATEGORIES:Horse Alerts
DESCRIPTION:Bookmakers On Your Mobile At bookmakers.co.uk Handicap Hurdle
DTSTART:20140416T182500
LOCATION:England
SUMMARY:Horse Racing:Bookmakers On Your Mobile At bookmakers.co.uk Handicap
  Hurdle
END:VEVENT
END:VCALENDAR
