BEGIN:VCALENDAR
VERSION:2.0
PRODID:-//horsealert.local//NONSGML kigkonsult.se iCalcreator 2.10.5//
CALSCALE:GREGORIAN
X-WR-TIMEZONE:Europe/Dublin
BEGIN:VTIMEZONE
TZID:Etc/GMT-1
BEGIN:STANDARD
DTSTART:20010101T000000
TZOFFSETFROM:+0100
TZOFFSETTO:+0100
TZNAME:GMT +01:00
END:STANDARD
END:VTIMEZONE
BEGIN:VEVENT
UID:20260424T143059CEST-2143uBILjz@horsealert.local
DTSTAMP:20260424T120459Z
CATEGORIES:Horse Alerts
DESCRIPTION:Follow totepool On Twitter Hunters\' Chase \(For The John And N
 igel Thorne Memorial Cup\)
DTSTART:20140413T161000
LOCATION:England
SUMMARY:Horse Racing:Follow totepool On Twitter Hunters\' Chase \(For The J
 ohn And Nigel Thorne Memorial Cup\)
END:VEVENT
END:VCALENDAR
