BEGIN:VCALENDAR
VERSION:2.0
PRODID:-//horsealert.local//NONSGML kigkonsult.se iCalcreator 2.10.5//
CALSCALE:GREGORIAN
X-WR-TIMEZONE:Europe/Dublin
BEGIN:VTIMEZONE
TZID:Etc/GMT-1
BEGIN:STANDARD
DTSTART:20010101T000000
TZOFFSETFROM:+0100
TZOFFSETTO:+0100
TZNAME:GMT +01:00
END:STANDARD
END:VTIMEZONE
BEGIN:VEVENT
UID:20260424T143054CEST-6612gwjm7O@horsealert.local
DTSTAMP:20260424T120454Z
CATEGORIES:Horse Alerts
DESCRIPTION:Ayrshire Hospice Making Today Matter Handicap Hurdle
DTSTART:20140412T162500
LOCATION:Scotland
SUMMARY:Horse Racing:Ayrshire Hospice Making Today Matter Handicap Hurdle
END:VEVENT
END:VCALENDAR
