BEGIN:VCALENDAR
VERSION:2.0
PRODID:-//horsealert.local//NONSGML kigkonsult.se iCalcreator 2.10.5//
CALSCALE:GREGORIAN
X-WR-TIMEZONE:Europe/Dublin
BEGIN:VTIMEZONE
TZID:Etc/GMT-1
BEGIN:STANDARD
DTSTART:20010101T000000
TZOFFSETFROM:+0100
TZOFFSETTO:+0100
TZNAME:GMT +01:00
END:STANDARD
END:VTIMEZONE
BEGIN:VEVENT
UID:20260424T143057CEST-3074ZgLclU@horsealert.local
DTSTAMP:20260424T120457Z
CATEGORIES:Horse Alerts
DESCRIPTION:Clyde And Solway Systems Limited Racing Excellence \'Hands And 
 Heels\' Finale Handicap Hurdle \(Conditionals/Amateurs\)
DTSTART:20140412T133000
LOCATION:Scotland
SUMMARY:Horse Racing:Clyde And Solway Systems Limited Racing Excellence \'H
 ands And Heels\' Finale Handicap Hurdle \(Conditionals/Amateurs\)
END:VEVENT
END:VCALENDAR
