BEGIN:VCALENDAR
VERSION:2.0
PRODID:-//horsealert.local//NONSGML kigkonsult.se iCalcreator 2.10.5//
CALSCALE:GREGORIAN
X-WR-TIMEZONE:Europe/Dublin
BEGIN:VTIMEZONE
TZID:Etc/GMT-1
BEGIN:STANDARD
DTSTART:20010101T000000
TZOFFSETFROM:+0100
TZOFFSETTO:+0100
TZNAME:GMT +01:00
END:STANDARD
END:VTIMEZONE
BEGIN:VEVENT
UID:20260424T143211CEST-5476ZdDIvo@horsealert.local
DTSTAMP:20260424T120411Z
CATEGORIES:Horse Alerts
DESCRIPTION:20 Family Ticket For May 18th Family Day Fillies Maiden
DTSTART:20140412T171500
LOCATION:Eire
SUMMARY:Horse Racing:20 Family Ticket For May 18th Family Day Fillies Maide
 n
END:VEVENT
END:VCALENDAR
