BEGIN:VCALENDAR
VERSION:2.0
PRODID:-//horsealert.local//NONSGML kigkonsult.se iCalcreator 2.10.5//
CALSCALE:GREGORIAN
X-WR-TIMEZONE:Europe/Dublin
BEGIN:VTIMEZONE
TZID:Etc/GMT-1
BEGIN:STANDARD
DTSTART:20010101T000000
TZOFFSETFROM:+0100
TZOFFSETTO:+0100
TZNAME:GMT +01:00
END:STANDARD
END:VTIMEZONE
BEGIN:VEVENT
UID:20260424T143213CEST-8243aVsUcc@horsealert.local
DTSTAMP:20260424T120413Z
CATEGORIES:Horse Alerts
DESCRIPTION:Coln Valley Stud Bridget Maiden Fillies\' Stakes \(BOBIS Race\)
  \(Str\)
DTSTART:20140411T164500
LOCATION:England
SUMMARY:Horse Racing:Coln Valley Stud Bridget Maiden Fillies\' Stakes \(BOB
 IS Race\) \(Str\)
END:VEVENT
END:VCALENDAR
