BEGIN:VCALENDAR
VERSION:2.0
PRODID:-//horsealert.local//NONSGML kigkonsult.se iCalcreator 2.10.5//
CALSCALE:GREGORIAN
X-WR-TIMEZONE:Europe/Dublin
BEGIN:VTIMEZONE
TZID:Etc/GMT-1
BEGIN:STANDARD
DTSTART:20010101T000000
TZOFFSETFROM:+0100
TZOFFSETTO:+0100
TZNAME:GMT +01:00
END:STANDARD
END:VTIMEZONE
BEGIN:VEVENT
UID:20260424T143213CEST-0022l4osfI@horsealert.local
DTSTAMP:20260424T120413Z
CATEGORIES:Horse Alerts
DESCRIPTION:totejackpot Go For The Big One Conditional Jockeys\' Training S
 eries Handicap Hurdle
DTSTART:20140410T142000
LOCATION:England
SUMMARY:Horse Racing:totejackpot Go For The Big One Conditional Jockeys\' T
 raining Series Handicap Hurdle
END:VEVENT
END:VCALENDAR
