BEGIN:VCALENDAR
VERSION:2.0
PRODID:-//horsealert.local//NONSGML kigkonsult.se iCalcreator 2.10.5//
CALSCALE:GREGORIAN
X-WR-TIMEZONE:Europe/Dublin
BEGIN:VTIMEZONE
TZID:Etc/GMT-1
BEGIN:STANDARD
DTSTART:20010101T000000
TZOFFSETFROM:+0100
TZOFFSETTO:+0100
TZNAME:GMT +01:00
END:STANDARD
END:VTIMEZONE
BEGIN:VEVENT
UID:20260424T142003CEST-6613r1g9z6@horsealert.local
DTSTAMP:20260424T120403Z
CATEGORIES:Horse Alerts
DESCRIPTION:mcmillanfineart.com Conditional Jockeys\' Handicap Hurdle
DTSTART:20140407T173000
LOCATION:Scotland
SUMMARY:Horse Racing:mcmillanfineart.com Conditional Jockeys\' Handicap Hur
 dle
END:VEVENT
END:VCALENDAR
