BEGIN:VCALENDAR
VERSION:2.0
PRODID:-//horsealert.local//NONSGML kigkonsult.se iCalcreator 2.10.5//
CALSCALE:GREGORIAN
X-WR-TIMEZONE:Europe/Dublin
BEGIN:VTIMEZONE
TZID:Etc/GMT-1
BEGIN:STANDARD
DTSTART:20010101T000000
TZOFFSETFROM:+0100
TZOFFSETTO:+0100
TZNAME:GMT +01:00
END:STANDARD
END:VTIMEZONE
BEGIN:VEVENT
UID:20260424T155424CEST-4935kLeIH5@horsealert.local
DTSTAMP:20260424T130424Z
CATEGORIES:Horse Alerts
DESCRIPTION:Unibet Offering 5 Places In National Novices\' Hurdle \(Div 1\)
DTSTART:20140405T132000
LOCATION:Wales
SUMMARY:Horse Racing:Unibet Offering 5 Places In National Novices\' Hurdle 
 \(Div 1\)
END:VEVENT
END:VCALENDAR
