BEGIN:VCALENDAR
VERSION:2.0
PRODID:-//horsealert.local//NONSGML kigkonsult.se iCalcreator 2.10.5//
CALSCALE:GREGORIAN
X-WR-TIMEZONE:Europe/Dublin
BEGIN:VTIMEZONE
TZID:Etc/GMT-1
BEGIN:STANDARD
DTSTART:20010101T000000
TZOFFSETFROM:+0100
TZOFFSETTO:+0100
TZNAME:GMT +01:00
END:STANDARD
END:VTIMEZONE
BEGIN:VEVENT
UID:20260424T155418CEST-48166p2vVj@horsealert.local
DTSTAMP:20260424T130418Z
CATEGORIES:Horse Alerts
DESCRIPTION:Weatherbys Private Banking Champion Standard Open NH Flat Race 
 \(Grade 2\)
DTSTART:20140405T174500
LOCATION:England
SUMMARY:Horse Racing:Weatherbys Private Banking Champion Standard Open NH F
 lat Race \(Grade 2\)
END:VEVENT
END:VCALENDAR
