BEGIN:VCALENDAR
VERSION:2.0
PRODID:-//horsealert.local//NONSGML kigkonsult.se iCalcreator 2.10.5//
CALSCALE:GREGORIAN
X-WR-TIMEZONE:Europe/Dublin
BEGIN:VTIMEZONE
TZID:Etc/GMT-1
BEGIN:STANDARD
DTSTART:20010101T000000
TZOFFSETFROM:+0100
TZOFFSETTO:+0100
TZNAME:GMT +01:00
END:STANDARD
END:VTIMEZONE
BEGIN:VEVENT
UID:20260424T142004CEST-2058oSvuVe@horsealert.local
DTSTAMP:20260424T120404Z
CATEGORIES:Horse Alerts
DESCRIPTION:Crabbie\'s Supporting Everton In The Community Topham Chase \(G
 rade 3 Handicap\) \(National Course\)
DTSTART:20140404T154000
LOCATION:England
SUMMARY:Horse Racing:Crabbie\'s Supporting Everton In The Community Topham 
 Chase \(Grade 3 Handicap\) \(National Course\)
END:VEVENT
END:VCALENDAR
