BEGIN:VCALENDAR
VERSION:2.0
PRODID:-//horsealert.local//NONSGML kigkonsult.se iCalcreator 2.10.5//
CALSCALE:GREGORIAN
X-WR-TIMEZONE:Europe/Dublin
BEGIN:VTIMEZONE
TZID:Etc/GMT-1
BEGIN:STANDARD
DTSTART:20010101T000000
TZOFFSETFROM:+0100
TZOFFSETTO:+0100
TZNAME:GMT +01:00
END:STANDARD
END:VTIMEZONE
BEGIN:VEVENT
UID:20260424T142005CEST-0221NkKftd@horsealert.local
DTSTAMP:20260424T120405Z
CATEGORIES:Horse Alerts
DESCRIPTION:iRadio Race Night Simon Stakes Apprentice Handicap \(50-85\)
DTSTART:20140404T184500
LOCATION:Eire
SUMMARY:Horse Racing:iRadio Race Night Simon Stakes Apprentice Handicap \(5
 0-85\)
END:VEVENT
END:VCALENDAR
