BEGIN:VCALENDAR
VERSION:2.0
PRODID:-//horsealert.local//NONSGML kigkonsult.se iCalcreator 2.10.5//
CALSCALE:GREGORIAN
X-WR-TIMEZONE:Europe/Dublin
BEGIN:VTIMEZONE
TZID:Etc/GMT-1
BEGIN:STANDARD
DTSTART:20010101T000000
TZOFFSETFROM:+0100
TZOFFSETTO:+0100
TZNAME:GMT +01:00
END:STANDARD
END:VTIMEZONE
BEGIN:VEVENT
UID:20260424T175913CEST-3417HbUrpf@horsealert.local
DTSTAMP:20260424T150413Z
CATEGORIES:Horse Alerts
DESCRIPTION:Crabbie\'s Supporting The Hillsborough Families Fox Hunters\' C
 hase \(National Course\)
DTSTART:20140403T154000
LOCATION:England
SUMMARY:Horse Racing:Crabbie\'s Supporting The Hillsborough Families Fox Hu
 nters\' Chase \(National Course\)
END:VEVENT
END:VCALENDAR
