BEGIN:VCALENDAR
VERSION:2.0
PRODID:-//horsealert.local//NONSGML kigkonsult.se iCalcreator 2.10.5//
CALSCALE:GREGORIAN
X-WR-TIMEZONE:Europe/Dublin
BEGIN:VTIMEZONE
TZID:Etc/GMT-1
BEGIN:STANDARD
DTSTART:20010101T000000
TZOFFSETFROM:+0100
TZOFFSETTO:+0100
TZNAME:GMT +01:00
END:STANDARD
END:VTIMEZONE
BEGIN:VEVENT
UID:20260424T142001CEST-10942V27jO@horsealert.local
DTSTAMP:20260424T120401Z
CATEGORIES:Horse Alerts
DESCRIPTION:Injured Jockeys Fund 50th Anniversary 4-Y-O Juvenile Hurdle \(G
 rade 1\)
DTSTART:20140403T140000
LOCATION:England
SUMMARY:Horse Racing:Injured Jockeys Fund 50th Anniversary 4-Y-O Juvenile H
 urdle \(Grade 1\)
END:VEVENT
END:VCALENDAR
