BEGIN:VCALENDAR
VERSION:2.0
PRODID:-//horsealert.local//NONSGML kigkonsult.se iCalcreator 2.10.5//
CALSCALE:GREGORIAN
X-WR-TIMEZONE:Europe/Dublin
BEGIN:VTIMEZONE
TZID:Etc/GMT-1
BEGIN:STANDARD
DTSTART:20010101T000000
TZOFFSETFROM:+0100
TZOFFSETTO:+0100
TZNAME:GMT +01:00
END:STANDARD
END:VTIMEZONE
BEGIN:VEVENT
UID:20260424T141954CEST-3709dLuI1J@horsealert.local
DTSTAMP:20260424T120454Z
CATEGORIES:Horse Alerts
DESCRIPTION:32Red Welcomes Microgaming Players Handicap Hurdle \(Jockey Clu
 b Grassroots Jumps Series Qualifier\)
DTSTART:20140402T161500
LOCATION:England
SUMMARY:Horse Racing:32Red Welcomes Microgaming Players Handicap Hurdle \(J
 ockey Club Grassroots Jumps Series Qualifier\)
END:VEVENT
END:VCALENDAR
