BEGIN:VCALENDAR
VERSION:2.0
PRODID:-//horsealert.local//NONSGML kigkonsult.se iCalcreator 2.10.5//
CALSCALE:GREGORIAN
X-WR-TIMEZONE:Europe/Dublin
BEGIN:VTIMEZONE
TZID:Etc/GMT-1
BEGIN:STANDARD
DTSTART:20010101T000000
TZOFFSETFROM:+0100
TZOFFSETTO:+0100
TZNAME:GMT +01:00
END:STANDARD
END:VTIMEZONE
BEGIN:VEVENT
UID:20260424T142116CEST-86531Nz1Fn@horsealert.local
DTSTAMP:20260424T120416Z
CATEGORIES:Horse Alerts
DESCRIPTION:Bulmers Live At Leopardstown Summer Racedays 2014 Fillies Maide
 n
DTSTART:20140402T154000
LOCATION:Eire
SUMMARY:Horse Racing:Bulmers Live At Leopardstown Summer Racedays 2014 Fill
 ies Maiden
END:VEVENT
END:VCALENDAR
