BEGIN:VCALENDAR
VERSION:2.0
PRODID:-//horsealert.local//NONSGML kigkonsult.se iCalcreator 2.10.5//
CALSCALE:GREGORIAN
X-WR-TIMEZONE:Europe/Dublin
BEGIN:VTIMEZONE
TZID:Etc/GMT-1
BEGIN:STANDARD
DTSTART:20010101T000000
TZOFFSETFROM:+0100
TZOFFSETTO:+0100
TZNAME:GMT +01:00
END:STANDARD
END:VTIMEZONE
BEGIN:VEVENT
UID:20260424T175946CEST-6917lM8lMC@horsealert.local
DTSTAMP:20260424T150446Z
CATEGORIES:Horse Alerts
DESCRIPTION:Kevin McManus Bookmaker Champion \(Pro/Am\) Flat Race \(Listed\
 )
DTSTART:20140330T173500
LOCATION:Eire
SUMMARY:Horse Racing:Kevin McManus Bookmaker Champion \(Pro/Am\) Flat Race 
 \(Listed\)
END:VEVENT
END:VCALENDAR
