BEGIN:VCALENDAR
VERSION:2.0
PRODID:-//horsealert.local//NONSGML kigkonsult.se iCalcreator 2.10.5//
CALSCALE:GREGORIAN
X-WR-TIMEZONE:Europe/Dublin
BEGIN:VTIMEZONE
TZID:Etc/GMT-1
BEGIN:STANDARD
DTSTART:20010101T000000
TZOFFSETFROM:+0100
TZOFFSETTO:+0100
TZNAME:GMT +01:00
END:STANDARD
END:VTIMEZONE
BEGIN:VEVENT
UID:20260424T175951CEST-6957Bcd47V@horsealert.local
DTSTAMP:20260424T150451Z
CATEGORIES:Horse Alerts
DESCRIPTION:Annual Family Day 18th May \(C & G\) Maiden Hurdle
DTSTART:20140329T145000
LOCATION:Eire
SUMMARY:Horse Racing:Annual Family Day 18th May \(C & G\) Maiden Hurdle
END:VEVENT
END:VCALENDAR
