BEGIN:VCALENDAR
VERSION:2.0
PRODID:-//horsealert.local//NONSGML kigkonsult.se iCalcreator 2.10.5//
CALSCALE:GREGORIAN
X-WR-TIMEZONE:Europe/Dublin
BEGIN:VTIMEZONE
TZID:Etc/GMT-1
BEGIN:STANDARD
DTSTART:20010101T000000
TZOFFSETFROM:+0100
TZOFFSETTO:+0100
TZNAME:GMT +01:00
END:STANDARD
END:VTIMEZONE
BEGIN:VEVENT
UID:20260424T180230CEST-80705mOMEi@horsealert.local
DTSTAMP:20260424T160430Z
CATEGORIES:Horse Alerts
DESCRIPTION:Harriet De-Vere Powell Apprentice Handicap \(Round 1 Of Go Raci
 ng In Yorkshire Future Stars Apprentice Series\) \(Div 2\)
DTSTART:20140329T173500
LOCATION:England
SUMMARY:Horse Racing:Harriet De-Vere Powell Apprentice Handicap \(Round 1 O
 f Go Racing In Yorkshire Future Stars Apprentice Series\) \(Div 2\)
END:VEVENT
END:VCALENDAR
