BEGIN:VCALENDAR
VERSION:2.0
PRODID:-//horsealert.local//NONSGML kigkonsult.se iCalcreator 2.10.5//
CALSCALE:GREGORIAN
X-WR-TIMEZONE:Europe/Dublin
BEGIN:VTIMEZONE
TZID:Etc/GMT-1
BEGIN:STANDARD
DTSTART:20010101T000000
TZOFFSETFROM:+0100
TZOFFSETTO:+0100
TZNAME:GMT +01:00
END:STANDARD
END:VTIMEZONE
BEGIN:VEVENT
UID:20260424T180225CEST-90635je7P0@horsealert.local
DTSTAMP:20260424T160425Z
CATEGORIES:Horse Alerts
DESCRIPTION:Brian Matthews 50th Birthday Handicap \(Qualifier For The Londo
 n Middle Distance Series Final\)
DTSTART:20140329T171500
LOCATION:England
SUMMARY:Horse Racing:Brian Matthews 50th Birthday Handicap \(Qualifier For 
 The London Middle Distance Series Final\)
END:VEVENT
END:VCALENDAR
