BEGIN:VCALENDAR
VERSION:2.0
PRODID:-//horsealert.local//NONSGML kigkonsult.se iCalcreator 2.10.5//
CALSCALE:GREGORIAN
X-WR-TIMEZONE:Europe/Dublin
BEGIN:VTIMEZONE
TZID:Etc/GMT-1
BEGIN:STANDARD
DTSTART:20010101T000000
TZOFFSETFROM:+0100
TZOFFSETTO:+0100
TZNAME:GMT +01:00
END:STANDARD
END:VTIMEZONE
BEGIN:VEVENT
UID:20260424T180408CEST-1120pMcnjd@horsealert.local
DTSTAMP:20260424T160408Z
CATEGORIES:Horse Alerts
DESCRIPTION:BetVictor 6 Places Grand National Rosebery Handicap \(London Mi
 ddle Distance Series Qualifier\)
DTSTART:20140329T145500
LOCATION:England
SUMMARY:Horse Racing:BetVictor 6 Places Grand National Rosebery Handicap \(
 London Middle Distance Series Qualifier\)
END:VEVENT
END:VCALENDAR
