BEGIN:VCALENDAR
VERSION:2.0
PRODID:-//horsealert.local//NONSGML kigkonsult.se iCalcreator 2.10.5//
CALSCALE:GREGORIAN
X-WR-TIMEZONE:Europe/Dublin
BEGIN:VTIMEZONE
TZID:Etc/GMT-1
BEGIN:STANDARD
DTSTART:20010101T000000
TZOFFSETFROM:+0100
TZOFFSETTO:+0100
TZNAME:GMT +01:00
END:STANDARD
END:VTIMEZONE
BEGIN:VEVENT
UID:20260424T180230CEST-8960xPK1xg@horsealert.local
DTSTAMP:20260424T160430Z
CATEGORIES:Horse Alerts
DESCRIPTION:IJF Farrell/Brookshaw Memorial Handicap Hurdle
DTSTART:20140328T161500
LOCATION:England
SUMMARY:Horse Racing:IJF Farrell/Brookshaw Memorial Handicap Hurdle
END:VEVENT
END:VCALENDAR
