BEGIN:VCALENDAR
VERSION:2.0
PRODID:-//horsealert.local//NONSGML kigkonsult.se iCalcreator 2.10.5//
CALSCALE:GREGORIAN
X-WR-TIMEZONE:Europe/Dublin
BEGIN:VTIMEZONE
TZID:Etc/GMT-1
BEGIN:STANDARD
DTSTART:20010101T000000
TZOFFSETFROM:+0100
TZOFFSETTO:+0100
TZNAME:GMT +01:00
END:STANDARD
END:VTIMEZONE
BEGIN:VEVENT
UID:20260424T175809CEST-5141WL3cVD@horsealert.local
DTSTAMP:20260424T150409Z
CATEGORIES:Horse Alerts
DESCRIPTION:IJF Jack Berry House Handicap Chase
DTSTART:20140328T144000
LOCATION:England
SUMMARY:Horse Racing:IJF Jack Berry House Handicap Chase
END:VEVENT
END:VCALENDAR
